BEGIN:VCALENDAR
VERSION:2.0
PRODID:-//Library Market//iCal Export//EN
BEGIN:VEVENT
SUMMARY:Creating with Pastels with Lloyd Cheatham Jr.
UID:9980
DTSTAMP:20260422T021400Z
DTSTART:20260806T220000Z
DTEND:20260807T000000Z
LOCATION:15175 E Jefferson Ave, Grosse Pointe Park, MI 48230, United State
 s
ROOM: Ewald Program Room
DESCRIPTION:Join us as we discover how to create with pastels. Supplies pr
 ovided. Adults only, please. 
URL:https://grossepointe.librarycalendar.com/event/creating-pastels-lloyd-
 cheatham-jr-9980
END:VEVENT
END:VCALENDAR
