BEGIN:VCALENDAR
VERSION:2.0
PRODID:-//Library Market//iCal Export//EN
BEGIN:VEVENT
SUMMARY:Saturday Drop-In Storytime at Central
UID:9898
DTSTAMP:20260421T044600Z
DTSTART:20260509T143000Z
DTEND:20260509T150000Z
LOCATION:10 Kercheval, Grosse Pointe Farms, MI 48236, United States
ROOM: Central Front Program Room
DESCRIPTION:
URL:https://grossepointe.librarycalendar.com/event/saturday-drop-storytime
 -central-9898
END:VEVENT
END:VCALENDAR
