BEGIN:VCALENDAR
VERSION:2.0
PRODID:-//Library Market//iCal Export//EN
BEGIN:VEVENT
SUMMARY:Poetry Workshop with M.L. Liebler
UID:8924
DTSTAMP:20260423T123500Z
DTSTART:20260618T223000Z
DTEND:20260619T000000Z
LOCATION:20680 Mack Ave, Grosse Pointe Woods, MI 48236, United States
ROOM: Woods Story Time Room
DESCRIPTION:Join M. L. Liebler, St. Clair Shores Poet Laureate, for a Poe
 try Workshop.  Participants can share a poem or part of a story with the 
 group and receive constructive comments. Everyone is welcome to come and e
 njoy the camaraderie (poems or stories are not required)!
URL:https://grossepointe.librarycalendar.com/event/poetry-workshop-ml-lieb
 ler-8924
END:VEVENT
END:VCALENDAR
