BEGIN:VCALENDAR
VERSION:2.0
PRODID:-//Library Market//iCal Export//EN
BEGIN:VEVENT
SUMMARY:Therapy Horse Program @ Woods
UID:8918
DTSTAMP:20260422T021400Z
DTSTART:20260603T193000Z
DTEND:20260603T223000Z
LOCATION:20680 Mack Ave, Grosse Pointe Woods, MI 48236, United States
ROOM: Woods Story Time Room
DESCRIPTION:Need a study break? Visit the Woods courtyard and say hello to
  a horse from Therapy Ranch. 
URL:https://grossepointe.librarycalendar.com/event/therapy-horse-program-w
 oods-8918
END:VEVENT
END:VCALENDAR
