BEGIN:VCALENDAR
VERSION:2.0
PRODID:-//Library Market//iCal Export//EN
BEGIN:VEVENT
SUMMARY:Storytime @ Woods
UID:8917
DTSTAMP:20260421T164200Z
DTSTART:20260805T133000Z
DTEND:20260805T140000Z
LOCATION:20680 Mack Ave, Grosse Pointe Woods, MI 48236, United States
ROOM: Woods Story Time Room
DESCRIPTION:
URL:https://grossepointe.librarycalendar.com/event/storytime-woods-8917
END:VEVENT
END:VCALENDAR
