BEGIN:VCALENDAR
VERSION:2.0
PRODID:-//Library Market//iCal Export//EN
BEGIN:VEVENT
SUMMARY:Storytime @ Woods
UID:8911
DTSTAMP:20260423T123500Z
DTSTART:20260805T143000Z
DTEND:20260805T150000Z
LOCATION:20680 Mack Ave, Grosse Pointe Woods, MI 48236, United States
ROOM: Woods Story Time Room
DESCRIPTION:
URL:https://grossepointe.librarycalendar.com/event/storytime-woods-8911
END:VEVENT
END:VCALENDAR
