BEGIN:VCALENDAR
VERSION:2.0
PRODID:-//Library Market//iCal Export//EN
BEGIN:VEVENT
SUMMARY:Storytime @ Woods
UID:8909
DTSTAMP:20260424T025300Z
DTSTART:20260722T143000Z
DTEND:20260722T150000Z
LOCATION:20680 Mack Ave, Grosse Pointe Woods, MI 48236, United States
ROOM: Woods Story Time Room
DESCRIPTION:
URL:https://grossepointe.librarycalendar.com/event/storytime-woods-8909
END:VEVENT
END:VCALENDAR
