BEGIN:VCALENDAR
VERSION:2.0
PRODID:-//Library Market//iCal Export//EN
BEGIN:VEVENT
SUMMARY:DinoBuilders STEM Program
UID:8905
DTSTAMP:20260421T154200Z
DTSTART:20260624T150000Z
DTEND:20260624T160000Z
LOCATION:20680 Mack Ave, Grosse Pointe Woods, MI 48236, United States
ROOM: Woods Program Room
DESCRIPTION:Learn about dinosaurs and design one using large foam fossils.
  Then have a romping stomping library parade! Please register, beginning J
 une 1st. 
URL:https://grossepointe.librarycalendar.com/event/dinobuilders-stem-progr
 am-8905
END:VEVENT
END:VCALENDAR
