BEGIN:VCALENDAR
VERSION:2.0
PRODID:-//Library Market//iCal Export//EN
BEGIN:VEVENT
SUMMARY:OpenSpot Theatre Workshop
UID:8904
DTSTAMP:20260424T040200Z
DTSTART:20260715T180000Z
DTEND:20260715T190000Z
LOCATION:20680 Mack Ave, Grosse Pointe Woods, MI 48236, United States
ROOM: Woods Program Room
DESCRIPTION:Theatre is for everybody! Kids of all abilities in elementary
  and middle school will have fun in this accessible, interactive session. 
 Participants will unlock their unique talents as they sing, dance, and act
  their way through an exciting group performance. Please register. 
URL:https://grossepointe.librarycalendar.com/event/openspot-theatre-worksh
 op-8904
END:VEVENT
END:VCALENDAR
