BEGIN:VCALENDAR
VERSION:2.0
PRODID:-//Library Market//iCal Export//EN
BEGIN:VEVENT
SUMMARY:Splitting Souls Book Discussion
UID:7399
DTSTAMP:20260423T123500Z
DTSTART:20260514T230000Z
DTEND:20260515T000000Z
LOCATION:15175 E Jefferson Ave, Grosse Pointe Park, MI 48230, United State
 s
ROOM: Ewald Program Room
DESCRIPTION:Join us for discussion with Award Winning Author, Kaylynn Hunt
  on her latest suspense, &quot;Splitting Souls.&quot; 
URL:https://grossepointe.librarycalendar.com/event/splitting-souls-book-di
 scussion-7399
END:VEVENT
END:VCALENDAR
