BEGIN:VCALENDAR
VERSION:2.0
PRODID:-//Library Market//iCal Export//EN
BEGIN:VEVENT
SUMMARY:DREAM LAB CLOSED
UID:10341
DTSTAMP:20260423T123500Z
DTSTART:20260425T040000Z
DTEND:20260425T040000Z
LOCATION:20680 Mack Ave, Grosse Pointe Woods, MI 48236, United States
ROOM: DREAM LAB CLOSED
DESCRIPTION:The DREAM Lab will be closed for Drop-ins as a class has been 
 scheduled to use the facility.
URL:https://grossepointe.librarycalendar.com/event/dream-lab-closed-10341
END:VEVENT
END:VCALENDAR
