BEGIN:VCALENDAR
VERSION:2.0
PRODID:-//Library Market//iCal Export//EN
BEGIN:VEVENT
SUMMARY:Playtime Pop-ins
UID:10291
DTSTAMP:20260421T154200Z
DTSTART:20260604T140000Z
DTEND:20260604T160000Z
LOCATION:20680 Mack Ave, Grosse Pointe Woods, MI 48236, United States
ROOM: Woods Program Room
DESCRIPTION:Are you looking for a space for your toddlers to get their wig
 gles out and play? We’ve got you covered. Drop in any time between 10 am
  and noon to play in our lower-level program room.
URL:https://grossepointe.librarycalendar.com/event/playtime-pop-ins-10291
END:VEVENT
END:VCALENDAR
