BEGIN:VCALENDAR
VERSION:2.0
PRODID:-//Library Market//iCal Export//EN
BEGIN:VEVENT
SUMMARY:Ventriloquist Richard Paul
UID:10289
DTSTAMP:20260422T121400Z
DTSTART:20260721T150000Z
DTEND:20260721T160000Z
LOCATION:20680 Mack Ave, Grosse Pointe Woods, MI 48236, United States
ROOM: Woods Program Room
DESCRIPTION:This show combines prehistoric-themed magic, colorful puppetry
 , lively music, and comedy to create an unforgettable journey back to the 
 age of dinosaurs. For all ages. 
URL:https://grossepointe.librarycalendar.com/event/richard-paul-ventriloqu
 ist-10289
END:VEVENT
END:VCALENDAR
