BEGIN:VCALENDAR
VERSION:2.0
PRODID:-//Library Market//iCal Export//EN
BEGIN:VEVENT
SUMMARY:Beginning CAD Modeling
UID:10286
DTSTAMP:20260422T034100Z
DTSTART:20260511T200000Z
DTEND:20260511T213000Z
LOCATION:20680 Mack Ave, Grosse Pointe Woods, MI 48236, United States
ROOM: Woods DREAM Lab
DESCRIPTION:Learn the basics of 3D modeling for 3D printing with TinkerCAD
 .  Adam goes over the basic tutorials of how this free software works.  
 All you need is a free account.  Sign up for one at https://www.tinkercad
 .com/Ages 10+
URL:https://grossepointe.librarycalendar.com/event/beginning-cad-modeling-
 10286
END:VEVENT
END:VCALENDAR
