BEGIN:VCALENDAR
VERSION:2.0
PRODID:-//Library Market//iCal Export//EN
BEGIN:VEVENT
SUMMARY:Sensory Storytime
UID:10283
DTSTAMP:20260421T154200Z
DTSTART:20260508T143000Z
DTEND:20260508T153000Z
LOCATION:15175 E Jefferson Ave, Grosse Pointe Park, MI 48230, United State
 s
ROOM: Ewald Program Room
DESCRIPTION:Sensory Storytime is a fun, interactive and educational storyt
 ime designed for children with sensory needs or who are on the autism spec
 trum and welcoming all ages and abilities.  Join us for stories, songs an
 d play that incorporate the five senses. Registration is required.  
URL:https://grossepointe.librarycalendar.com/event/sensory-storytime-10283
END:VEVENT
END:VCALENDAR
