BEGIN:VCALENDAR
VERSION:2.0
PRODID:-//Library Market//iCal Export//EN
BEGIN:VEVENT
SUMMARY:The Work of Landscape Architect Jens Jensen
UID:10279
DTSTAMP:20260424T025300Z
DTSTART:20260617T230000Z
DTEND:20260618T001500Z
LOCATION:10 Kercheval, Grosse Pointe Farms, MI 48236, United States
ROOM: Central Front Program Room
DESCRIPTION:Leah Reblin presents the work of Jens Jensen, a world-renowned
  landscape architect who created municipal parks and private estates throu
 ghout the U.S, including the Edsel and Eleanor Ford Estate in Grosse Point
 e Shores. This is part of the Higbie Maxon Agney Historical Lecture Series
 .
URL:https://grossepointe.librarycalendar.com/event/work-landscape-architec
 t-jens-jensen-10279
END:VEVENT
END:VCALENDAR
