BEGIN:VCALENDAR
VERSION:2.0
PRODID:-//Library Market//iCal Export//EN
BEGIN:VEVENT
SUMMARY:Michigan Science Center presents Eureka!
UID:10252
DTSTAMP:20260421T164200Z
DTSTART:20260714T193000Z
DTEND:20260714T203000Z
LOCATION:10 Kercheval, Grosse Pointe Farms, MI 48236, United States
ROOM: Central Front Program Room
DESCRIPTION:Imagine where we would be without inventions such as the light
  bulb, microwave oven, or even our favorite toys. Join us as we explore th
 e amazing tales of how these everyday modern marvels came to exist and cel
 ebrate the scientists and inventors who made them possible. Please regist
 er. 
URL:https://grossepointe.librarycalendar.com/event/michigan-science-center
 -presents-eureka-10252
END:VEVENT
END:VCALENDAR
