BEGIN:VCALENDAR
VERSION:2.0
PRODID:-//Library Market//iCal Export//EN
BEGIN:VEVENT
SUMMARY:Library Bigs &amp; Littles
UID:10226
DTSTAMP:20260420T133900Z
DTSTART:20260509T140000Z
DTEND:20260509T150000Z
LOCATION:20680 Mack Ave, Grosse Pointe Woods, MI 48236, United States
ROOM: Woods Program Room
DESCRIPTION:Join us for Library Bigs &amp; Littles, a monthly Saturday pro
 gram where teen volunteers (Bigs) are paired with younger children (Little
 s) to build reading skills, boost confidence, and have fun through books, 
 crafts, games, and library exploration.This program helps younger readers 
 grow while giving teens the chance to develop leadership skills and earn v
 olunteer hours — all while making new friends and sharing the joy of rea
 ding.📅 Meets the Second Saturday of Each Month | 10:00–11:00 AMJanuar
 y 10 | February 14 | March 14 | April 11 | May 9 📍 Grosse Pointe Publi
 c Library – Woods BranchBigs: Grades 6-12 | Littles: Ages 5–10
URL:https://grossepointe.librarycalendar.com/event/library-bigs-littles-10
 226
END:VEVENT
END:VCALENDAR
