BEGIN:VCALENDAR
VERSION:2.0
PRODID:-//Library Market//iCal Export//EN
BEGIN:VEVENT
SUMMARY:Library Bigs &amp; Littles
UID:10224
DTSTAMP:20260423T123500Z
DTSTART:20260808T140000Z
DTEND:20260808T150000Z
LOCATION:20680 Mack Ave, Grosse Pointe Woods, MI 48236, United States
ROOM: Woods Story Time Room
DESCRIPTION:Join us for Library Bigs &amp; Littles, a monthly Saturday pro
 gram where teen volunteers (Bigs) are paired with younger children (Little
 s) to build reading skills, boost confidence, and have fun through books, 
 crafts, games, and library exploration.This program helps younger readers 
 grow while giving teens the chance to develop leadership skills and earn v
 olunteer hours — all while making new friends and sharing the joy of rea
 ding.📅 Meets the Second Saturday of Each Month | 10:00–11:00 AMJune 1
 3 | July 11 | August 8 | September 12 📍 Grosse Pointe Public Library 
  Woods BranchBigs: Ages 12–18 | Littles: Ages 5–10
URL:https://grossepointe.librarycalendar.com/event/library-bigs-littles-10
 224
END:VEVENT
END:VCALENDAR
