BEGIN:VCALENDAR
VERSION:2.0
PRODID:-//Library Market//iCal Export//EN
BEGIN:VEVENT
SUMMARY:Art as Power
UID:10216
DTSTAMP:20260424T025300Z
DTSTART:20260716T140000Z
DTEND:20260716T150000Z
LOCATION:15175 E Jefferson Ave, Grosse Pointe Park, MI 48230, United State
 s
ROOM: Ewald Program Room
DESCRIPTION:“Art was a powerful form of resistance against Nazi oppressi
 on during theHolocaust. Although the Nazi regime cracked down on art that 
 it considereddegenerate or subversive, artists used creative expression to
  foster humanity,preserve dignity, and as a form of resistance during this
  time. You will explore artcreated by victims and survivors during and aft
 er the Holocaust and examine theirmessage and meaning for us today.” -Ze
 kelman Holocaust Center 
URL:https://grossepointe.librarycalendar.com/event/art-power-10216
END:VEVENT
END:VCALENDAR
