BEGIN:VCALENDAR
VERSION:2.0
PRODID:-//Library Market//iCal Export//EN
BEGIN:VEVENT
SUMMARY:Grosse Pointe Library Foundation Books and Bubbles
UID:10181
DTSTAMP:20260422T034100Z
DTSTART:20261021T223000Z
DTEND:20261022T010000Z
LOCATION:Ford House, 1100 Lake Shore Road, Grosse Pointe Shores, MI 48236,
  United States
ROOM: Grosse Pointe Library Foundation Books and Bubbles
DESCRIPTION:Books &amp; Bubbles is the Grosse Pointe Library Foundation an
 nual fundraiser to support the Grosse Pointe Public Library. For more info
 rmation about sponsorships please contact Paige at paige@gplf.org. Tickets
  will go on sale in September.
URL:https://grossepointe.librarycalendar.com/event/grosse-pointe-library-f
 oundation-books-and-bubbles-10181
END:VEVENT
END:VCALENDAR
