BEGIN:VCALENDAR
VERSION:2.0
PRODID:-//Library Market//iCal Export//EN
BEGIN:VEVENT
SUMMARY:Appy Hour
UID:10180
DTSTAMP:20260421T164200Z
DTSTART:20260807T140000Z
DTEND:20260807T150000Z
LOCATION:15175 E Jefferson Ave, Grosse Pointe Park, MI 48230, United State
 s
ROOM: Ewald Program Room
DESCRIPTION:
URL:https://grossepointe.librarycalendar.com/event/appy-hour-10180
END:VEVENT
END:VCALENDAR
