BEGIN:VCALENDAR
VERSION:2.0
PRODID:-//Library Market//iCal Export//EN
BEGIN:VEVENT
SUMMARY:Appy Hour
UID:10179
DTSTAMP:20260424T025300Z
DTSTART:20260714T200000Z
DTEND:20260714T210000Z
LOCATION:15175 E Jefferson Ave, Grosse Pointe Park, MI 48230, United State
 s
ROOM: Ewald Program Room
DESCRIPTION:
URL:https://grossepointe.librarycalendar.com/event/appy-hour-10179
END:VEVENT
END:VCALENDAR
