BEGIN:VCALENDAR
VERSION:2.0
PRODID:-//Library Market//iCal Export//EN
BEGIN:VEVENT
SUMMARY:Appy Hour
UID:10175
DTSTAMP:20260423T123500Z
DTSTART:20260620T170000Z
DTEND:20260620T180000Z
LOCATION:15175 E Jefferson Ave, Grosse Pointe Park, MI 48230, United State
 s
ROOM: Ewald Program Room
DESCRIPTION:
URL:https://grossepointe.librarycalendar.com/event/copy-appy-hour-10175
END:VEVENT
END:VCALENDAR
