BEGIN:VCALENDAR
VERSION:2.0
PRODID:-//Library Market//iCal Export//EN
BEGIN:VEVENT
SUMMARY:Appy Hour
UID:10169
DTSTAMP:20260422T021400Z
DTSTART:20260527T180000Z
DTEND:20260527T190000Z
LOCATION:15175 E Jefferson Ave, Grosse Pointe Park, MI 48230, United State
 s
ROOM: Ewald Program Room
DESCRIPTION:That&#039;s right...Appy Hour is back!
URL:https://grossepointe.librarycalendar.com/event/appy-hour-10169
END:VEVENT
END:VCALENDAR
