BEGIN:VCALENDAR
VERSION:2.0
PRODID:-//Library Market//iCal Export//EN
BEGIN:VEVENT
SUMMARY:Reader Dog @ Woods
UID:10120
DTSTAMP:20260424T025300Z
DTSTART:20260518T210000Z
DTEND:20260518T220000Z
LOCATION:20680 Mack Ave, Grosse Pointe Woods, MI 48236, United States
ROOM: Woods Story Time Room
DESCRIPTION:
URL:https://grossepointe.librarycalendar.com/event/reader-dog-woods-10120
END:VEVENT
END:VCALENDAR
