BEGIN:VCALENDAR
VERSION:2.0
PRODID:-//Library Market//iCal Export//EN
BEGIN:VEVENT
SUMMARY:Laughing Stacks Book Club
UID:10109
DTSTAMP:20260420T015700Z
DTSTART:20260511T230000Z
DTEND:20260512T000000Z
LOCATION:20680 Mack Ave, Grosse Pointe Woods, MI 48236, United States
ROOM: Woods Story Time Room
DESCRIPTION:
URL:https://grossepointe.librarycalendar.com/event/laughing-stacks-book-cl
 ub-10109
END:VEVENT
END:VCALENDAR
