BEGIN:VCALENDAR
VERSION:2.0
PRODID:-//Library Market//iCal Export//EN
BEGIN:VEVENT
SUMMARY:Teddy Bear Clinic with MSU
UID:10074
DTSTAMP:20260421T154200Z
DTSTART:20260530T170000Z
DTEND:20260530T180000Z
LOCATION:15175 E Jefferson Ave, Grosse Pointe Park, MI 48230, United State
 s
ROOM: Ewald Program Room
DESCRIPTION:Michigan State University College of Osteopathic Medicine is b
 ringing the Teddy Bear Clinic to Grosse Pointe Library!Â Teddy bear clinic
 s involve volunteers working with elementary-aged children to perform a â€
 ścheck-upâ€ť on their stuffed animals, helping them to understand what hap
 pens during a doctorâ€™s visit and decreasing nervousness about future vis
 its. The children will rotate through interactive stations exploring heart
  &amp; lung health, bone health, nutrition, vaccines, germs, and the five 
 senses. Itâ€™s a great opportunity to spark their interest in health and s
 cience while encouraging habits for lifelong wellness!Bring your favorite 
 stuffie to play the role of your patient!Â Registration is required for th
 is program.Â 
URL:https://grossepointe.librarycalendar.com/event/teddy-bear-clinic-msu-1
 0074
END:VEVENT
END:VCALENDAR
